BEGIN:VCALENDAR
VERSION:2.0
METHOD:PUBLISH
PRODID:-//Agenda.ad//NONSGML v1.0//EN
BEGIN:VEVENT
CLASS:PUBLIC
UID:8f5b6b1aa428bb264423043a64634034@agenda.ad
DTSTAMP:20260422T043421Z
DTSTART:20240209T230000Z
DTEND:20240210T230000Z
SUMMARY:Taller "5 passos per trobar la teva missi&oacute; de vida"&nbsp;
DESCRIPTION:\n\nMés informació\nhttps://www.agenda.ad/activitat/andorr
 a-la-vella/conferencies/taller-5-passos-per-trobar-la-teva-m
 issio-de-vida \n\n\nOrganitza\nCentre Mosaic
LOCATION:Centre Mosaic
SEQUENCE:0
TRANSP:OPAQUE
X-ALT-DESC;FMTTYPE=text/html:<!DOCTYPE HTML PUBLIC "-//W3C//DTD HTML 3.2//EN"><HTML><HEAD
 ><TITLE></TITLE></HEAD><BODY><FONT FACE="Arial" SIZE=2><br/>
 <br/><b>Més informació</b><br/><a href="https://www.agenda
 .ad/activitat/andorra-la-vella/conferencies/taller-5-passos-
 per-trobar-la-teva-missio-de-vida ">https://www.agenda.ad/a
 ctivitat/andorra-la-vella/conferencies/taller-5-passos-per-t
 robar-la-teva-missio-de-vida </a><br/><br/><br/><b>Organitz
 a</b><br/>Centre Mosaic</FONT></BODY></HTML>
END:VEVENT
END:VCALENDAR